BEGIN:VCALENDAR
VERSION:2.0
PRODID:-//Village of Fruitport - ECPv6.15.17.1//NONSGML v1.0//EN
CALSCALE:GREGORIAN
METHOD:PUBLISH
X-ORIGINAL-URL:https://www.fruitportvillage.com
X-WR-CALDESC:Events for Village of Fruitport
REFRESH-INTERVAL;VALUE=DURATION:PT1H
X-Robots-Tag:noindex
X-PUBLISHED-TTL:PT1H
BEGIN:VTIMEZONE
TZID:UTC
BEGIN:STANDARD
TZOFFSETFROM:+0000
TZOFFSETTO:+0000
TZNAME:UTC
DTSTART:20250101T000000
END:STANDARD
END:VTIMEZONE
BEGIN:VEVENT
DTSTART;TZID=UTC:20260119T170000
DTEND;TZID=UTC:20260119T170000
DTSTAMP:20260421T114309
CREATED:20241202T183213Z
LAST-MODIFIED:20260115T190905Z
UID:109735-1768842000-1768842000@www.fruitportvillage.com
SUMMARY:Council Meeting
DESCRIPTION:1-19-26 Council Meeting Agenda
URL:https://www.fruitportvillage.com/event/council-meeting-28/
LOCATION:Fruitport DPW Building\, 45 S 2nd Ave\, Fruitport\, MI\, 49415
CATEGORIES:Billboard
ATTACH;FMTTYPE=image/jpeg:https://www.fruitportvillage.com/wp-content/uploads/2023/09/Contact-Us-1.jpg
END:VEVENT
END:VCALENDAR