BEGIN:VCALENDAR
VERSION:2.0
PRODID:-//Village of Fruitport - ECPv6.15.17.1//NONSGML v1.0//EN
CALSCALE:GREGORIAN
METHOD:PUBLISH
X-ORIGINAL-URL:https://www.fruitportvillage.com
X-WR-CALDESC:Events for Village of Fruitport
REFRESH-INTERVAL;VALUE=DURATION:PT1H
X-Robots-Tag:noindex
X-PUBLISHED-TTL:PT1H
BEGIN:VTIMEZONE
TZID:America/Detroit
BEGIN:DAYLIGHT
TZOFFSETFROM:-0500
TZOFFSETTO:-0400
TZNAME:EDT
DTSTART:20240310T070000
END:DAYLIGHT
BEGIN:STANDARD
TZOFFSETFROM:-0400
TZOFFSETTO:-0500
TZNAME:EST
DTSTART:20241103T060000
END:STANDARD
BEGIN:DAYLIGHT
TZOFFSETFROM:-0500
TZOFFSETTO:-0400
TZNAME:EDT
DTSTART:20250309T070000
END:DAYLIGHT
BEGIN:STANDARD
TZOFFSETFROM:-0400
TZOFFSETTO:-0500
TZNAME:EST
DTSTART:20251102T060000
END:STANDARD
BEGIN:DAYLIGHT
TZOFFSETFROM:-0500
TZOFFSETTO:-0400
TZNAME:EDT
DTSTART:20260308T070000
END:DAYLIGHT
BEGIN:STANDARD
TZOFFSETFROM:-0400
TZOFFSETTO:-0500
TZNAME:EST
DTSTART:20261101T060000
END:STANDARD
END:VTIMEZONE
BEGIN:VTIMEZONE
TZID:UTC
BEGIN:STANDARD
TZOFFSETFROM:+0000
TZOFFSETTO:+0000
TZNAME:UTC
DTSTART:20240101T000000
END:STANDARD
END:VTIMEZONE
BEGIN:VEVENT
DTSTART;TZID=America/Detroit:20251202T180000
DTEND;TZID=America/Detroit:20251202T180000
DTSTAMP:20260421T114249
CREATED:20251117T180642Z
LAST-MODIFIED:20251117T180642Z
UID:110251-1764698400-1764698400@www.fruitportvillage.com
SUMMARY:Planning Commission Meeting
DESCRIPTION:12-2-25 Planning Commission Agenda
URL:https://www.fruitportvillage.com/event/planning-commission-meeting-16/
LOCATION:Fruitport Township Hall\, 5865 Airline Highway\, Fruitport\, MI\, 49415\, United States
CATEGORIES:Billboard
ATTACH;FMTTYPE=image/jpeg:https://www.fruitportvillage.com/wp-content/uploads/2023/08/Village-Boat-Launch-2.jpg
END:VEVENT
BEGIN:VEVENT
DTSTART;TZID=UTC:20251212T173000
DTEND;TZID=UTC:20251212T210000
DTSTAMP:20260421T114249
CREATED:20231024T171645Z
LAST-MODIFIED:20251208T192024Z
UID:108787-1765560600-1765573200@www.fruitportvillage.com
SUMMARY:Fruitport Old Fashioned Christmas and Parade
DESCRIPTION: 
URL:https://www.fruitportvillage.com/event/fruitport-old-fashioned-christmas-by-the-fruitport-lions-club-2/
LOCATION:Pomona Park\, 187 S 3rd Ave\, Fruitport\, MI\, 49415\, United States
CATEGORIES:Billboard
ATTACH;FMTTYPE=image/jpeg:https://www.fruitportvillage.com/wp-content/uploads/2023/10/2025-OFD-Christmas-Flyer.jpg
END:VEVENT
BEGIN:VEVENT
DTSTART;TZID=UTC:20251213T160000
DTEND;TZID=UTC:20251213T190000
DTSTAMP:20260421T114249
CREATED:20251208T191559Z
LAST-MODIFIED:20251208T191708Z
UID:110279-1765641600-1765652400@www.fruitportvillage.com
SUMMARY:Fruitport Old Fashioned Christmas
DESCRIPTION:  \n 
URL:https://www.fruitportvillage.com/event/fruitport-old-fashioned-christmas/
LOCATION:Pomona Park\, 187 S 3rd Ave\, Fruitport\, MI\, 49415\, United States
CATEGORIES:Billboard
ATTACH;FMTTYPE=image/jpeg:https://www.fruitportvillage.com/wp-content/uploads/2023/10/2025-OFD-Christmas-Flyer.jpg
END:VEVENT
BEGIN:VEVENT
DTSTART;TZID=UTC:20251215T170000
DTEND;TZID=UTC:20251215T170000
DTSTAMP:20260421T114249
CREATED:20241202T183126Z
LAST-MODIFIED:20251211T190039Z
UID:109736-1765818000-1765818000@www.fruitportvillage.com
SUMMARY:Council Meeting
DESCRIPTION:12-15-25 Council Meeting Agenda
URL:https://www.fruitportvillage.com/event/council-meeting-27/
LOCATION:Fruitport DPW Building\, 45 S 2nd Ave\, Fruitport\, MI\, 49415
CATEGORIES:Billboard
ATTACH;FMTTYPE=image/jpeg:https://www.fruitportvillage.com/wp-content/uploads/2023/09/Contact-Us-1.jpg
END:VEVENT
END:VCALENDAR